BEGIN:VCALENDAR
VERSION:2.0
PRODID:-//Clatsop Community College - ECPv6.15.17.1//NONSGML v1.0//EN
CALSCALE:GREGORIAN
METHOD:PUBLISH
X-ORIGINAL-URL:https://www.clatsopcc.edu
X-WR-CALDESC:Events for Clatsop Community College
REFRESH-INTERVAL;VALUE=DURATION:PT1H
X-Robots-Tag:noindex
X-PUBLISHED-TTL:PT1H
BEGIN:VTIMEZONE
TZID:America/Los_Angeles
BEGIN:DAYLIGHT
TZOFFSETFROM:-0800
TZOFFSETTO:-0700
TZNAME:PDT
DTSTART:20250309T100000
END:DAYLIGHT
BEGIN:STANDARD
TZOFFSETFROM:-0700
TZOFFSETTO:-0800
TZNAME:PST
DTSTART:20251102T090000
END:STANDARD
BEGIN:DAYLIGHT
TZOFFSETFROM:-0800
TZOFFSETTO:-0700
TZNAME:PDT
DTSTART:20260308T100000
END:DAYLIGHT
BEGIN:STANDARD
TZOFFSETFROM:-0700
TZOFFSETTO:-0800
TZNAME:PST
DTSTART:20261101T090000
END:STANDARD
BEGIN:DAYLIGHT
TZOFFSETFROM:-0800
TZOFFSETTO:-0700
TZNAME:PDT
DTSTART:20270314T100000
END:DAYLIGHT
BEGIN:STANDARD
TZOFFSETFROM:-0700
TZOFFSETTO:-0800
TZNAME:PST
DTSTART:20271107T090000
END:STANDARD
END:VTIMEZONE
BEGIN:VEVENT
DTSTART;TZID=America/Los_Angeles:20260421T173000
DTEND;TZID=America/Los_Angeles:20260421T193000
DTSTAMP:20260421T162625
CREATED:20260331T225601Z
LAST-MODIFIED:20260331T225602Z
UID:67559-1776792600-1776799800@www.clatsopcc.edu
SUMMARY:Budget Committee Meeting
DESCRIPTION:The first meeting of the 2026 Budget Committee will discuss the 2026 – 2027 College budget.
URL:https://www.clatsopcc.edu/event/budget-committee-meeting/
LOCATION:Columbia 219 or Zoom
END:VEVENT
BEGIN:VEVENT
DTSTART;TZID=America/Los_Angeles:20260424T090000
DTEND;TZID=America/Los_Angeles:20260424T140000
DTSTAMP:20260421T162625
CREATED:20260311T200038Z
LAST-MODIFIED:20260311T200040Z
UID:67294-1777021200-1777039200@www.clatsopcc.edu
SUMMARY:2026 MERTS Open House
DESCRIPTION:All are welcome to attend the MERTS Open House to explore career technical education programs that keep our local industries and communities running. Instructors will be on hand to answer questions as groups tour the buildings and program areas.
URL:https://www.clatsopcc.edu/event/2026-merts-open-house/
LOCATION:MERTS Campus\, 6550 Liberty Lane\, Astoria\, Oregon\, 97103\, United States
CATEGORIES:Community Events,Student Activities
ATTACH;FMTTYPE=image/jpeg:https://www.clatsopcc.edu/wp-content/uploads/MERTS-Open-House-2026-slide-1-scaled.jpg
END:VEVENT
BEGIN:VEVENT
DTSTART;TZID=America/Los_Angeles:20260430T150000
DTEND;TZID=America/Los_Angeles:20260430T170000
DTSTAMP:20260421T162625
CREATED:20260415T205445Z
LAST-MODIFIED:20260415T205447Z
UID:67741-1777561200-1777568400@www.clatsopcc.edu
SUMMARY:Open Mic
DESCRIPTION:Join CCC for the spring term open mic event. Show off a talent or just come watch. Play an instrument? Write Poetry? Sing a song? Tell a tale? Know a good joke? All are welcome.
URL:https://www.clatsopcc.edu/event/open-mic-2/
LOCATION:CCC Royal Nebeker Art Gallery\, 1651 Lexington Ave.\, Astoria\, 97103\, United States
CATEGORIES:Community Events,Student Activities
ATTACH;FMTTYPE=image/png:https://www.clatsopcc.edu/wp-content/uploads/image-3.png
END:VEVENT
END:VCALENDAR