BEGIN:VCALENDAR
VERSION:2.0
PRODID:-//Clatsop Community College - ECPv6.15.17.1//NONSGML v1.0//EN
CALSCALE:GREGORIAN
METHOD:PUBLISH
X-WR-CALNAME:Clatsop Community College
X-ORIGINAL-URL:https://www.clatsopcc.edu
X-WR-CALDESC:Events for Clatsop Community College
REFRESH-INTERVAL;VALUE=DURATION:PT1H
X-Robots-Tag:noindex
X-PUBLISHED-TTL:PT1H
BEGIN:VTIMEZONE
TZID:America/Los_Angeles
BEGIN:DAYLIGHT
TZOFFSETFROM:-0800
TZOFFSETTO:-0700
TZNAME:PDT
DTSTART:20250309T100000
END:DAYLIGHT
BEGIN:STANDARD
TZOFFSETFROM:-0700
TZOFFSETTO:-0800
TZNAME:PST
DTSTART:20251102T090000
END:STANDARD
BEGIN:DAYLIGHT
TZOFFSETFROM:-0800
TZOFFSETTO:-0700
TZNAME:PDT
DTSTART:20260308T100000
END:DAYLIGHT
BEGIN:STANDARD
TZOFFSETFROM:-0700
TZOFFSETTO:-0800
TZNAME:PST
DTSTART:20261101T090000
END:STANDARD
BEGIN:DAYLIGHT
TZOFFSETFROM:-0800
TZOFFSETTO:-0700
TZNAME:PDT
DTSTART:20270314T100000
END:DAYLIGHT
BEGIN:STANDARD
TZOFFSETFROM:-0700
TZOFFSETTO:-0800
TZNAME:PST
DTSTART:20271107T090000
END:STANDARD
END:VTIMEZONE
BEGIN:VEVENT
DTSTART;TZID=America/Los_Angeles:20260501T203000
DTEND;TZID=America/Los_Angeles:20260501T220000
DTSTAMP:20260421T180341
CREATED:20260415T181227Z
LAST-MODIFIED:20260415T181230Z
UID:67738-1777667400-1777672800@www.clatsopcc.edu
SUMMARY:Drive-In Movie Night
DESCRIPTION:ASG invites you to a Drive-In Movie Night! All expenses are covered by your Associated Student Government\, including snacks and candy\, so all you need to bring is yourself!  \n\n\n\n\nDate: Friday\, May 1st\n\n\n\nTime: 8:30 PM (sunset)\n\n\n\nWhere: Upper Parking Lot on the CCC Lexington campus (behind Columbia Hall)\n\n\n\nCost: FREE (snacks & candy sponsored by ASG)\n\n\n\nNo car? No problem! Bring a chair or we’ll have inflatable chairs available\, just let us know in the RSVP form. \n\n\n\n\nSEATING & VIEWING OPTIONS:  \n\n\n\nWhether you’re watching from your car or joining us on the lawn\, we’ve got you covered. When you RSVP\, you’ll let us know how you plan to watch: \n\n\n\n\nBringing your own chair- If you’re at all unsure you’ll need a chair\, please select “I will use an inflatable chair provided by ASG” by April 19th. We’ll be purchasing chairs based on RSVP responses and want to make sure no one is left without a seat! \n\n\n\n\n\nFrom a vehicle\n\n\n\n\n\nUsing an inflatable chair provided by ASG- Only students that RSVP’d by April 19th will be able to reserve a chair.\n\n\n\n\nRSVP by Sunday\, April 19th at 11:59 PM here:  \n\n\n\nhttps://docs.google.com/forms/d/e/1FAIpQLScmKgJpVHSX1CXoUfTszvDlH02GuTQwOfMxFVkDX4b_LQIutQ/viewform?usp=header \n\n\n\nDon’t wait — RSVP now so we can plan for enough chairs and snacks for everyone. See you under the stars! 
URL:https://www.clatsopcc.edu/event/drive-in-movie-night/
CATEGORIES:Student Activities
ATTACH;FMTTYPE=image/jpeg:https://www.clatsopcc.edu/wp-content/uploads/Drive-In.jpg
END:VEVENT
END:VCALENDAR