BEGIN:VCALENDAR
VERSION:2.0
PRODID:-//Clatsop Community College - ECPv6.15.17.1//NONSGML v1.0//EN
CALSCALE:GREGORIAN
METHOD:PUBLISH
X-ORIGINAL-URL:https://www.clatsopcc.edu
X-WR-CALDESC:Events for Clatsop Community College
REFRESH-INTERVAL;VALUE=DURATION:PT1H
X-Robots-Tag:noindex
X-PUBLISHED-TTL:PT1H
BEGIN:VTIMEZONE
TZID:America/Los_Angeles
BEGIN:DAYLIGHT
TZOFFSETFROM:-0800
TZOFFSETTO:-0700
TZNAME:PDT
DTSTART:20250309T100000
END:DAYLIGHT
BEGIN:STANDARD
TZOFFSETFROM:-0700
TZOFFSETTO:-0800
TZNAME:PST
DTSTART:20251102T090000
END:STANDARD
BEGIN:DAYLIGHT
TZOFFSETFROM:-0800
TZOFFSETTO:-0700
TZNAME:PDT
DTSTART:20260308T100000
END:DAYLIGHT
BEGIN:STANDARD
TZOFFSETFROM:-0700
TZOFFSETTO:-0800
TZNAME:PST
DTSTART:20261101T090000
END:STANDARD
BEGIN:DAYLIGHT
TZOFFSETFROM:-0800
TZOFFSETTO:-0700
TZNAME:PDT
DTSTART:20270314T100000
END:DAYLIGHT
BEGIN:STANDARD
TZOFFSETFROM:-0700
TZOFFSETTO:-0800
TZNAME:PST
DTSTART:20271107T090000
END:STANDARD
END:VTIMEZONE
BEGIN:VEVENT
DTSTART;TZID=America/Los_Angeles:20260120T170000
DTEND;TZID=America/Los_Angeles:20260120T183000
DTSTAMP:20260421T105004
CREATED:20260106T185128Z
LAST-MODIFIED:20260106T185130Z
UID:66440-1768928400-1768933800@www.clatsopcc.edu
SUMMARY:2026 Nursing Program: Application Information Session #2
DESCRIPTION:These application information sessions are for students applying this year (2026) to the CCC Nursing Program: \n\n\n\n\nSession #1\, Friday\, 01/09: 10-11:30 a.m.\, Columbia Hall 116\n\n\n\nSession #2\, Tuesday\, 01/20: 5-6:30 p.m.\, Columbia Hall 116\n\n\n\nSession #3\, Friday\, 01/30: 11 a.m. – 12:30 p.m.\, Columbia Hall 116\n\n\n\n\nThese sessions are specifically designed to help applicants complete the 2026 Nursing Program Application due by February 17\, 2026. \n\n\n\nIf a Zoom link is needed\, contact Kathy Laughman at klaughman@clatsopcc.edu or (503) 338-2354. \n\n\n\nPotential applicants are strongly encouraged to attend at least one session. \n\n\n\nPlease join us!
URL:https://www.clatsopcc.edu/event/2026-nursing-program-application-information-session-2/
LOCATION:Columbia Hall 116\, 1651 Lexington Avenue\, Astoria\, Oregon\, 97103\, United States
ATTACH;FMTTYPE=image/jpeg:https://www.clatsopcc.edu/wp-content/uploads/nursing_temp.jpg
END:VEVENT
END:VCALENDAR