BEGIN:VCALENDAR
VERSION:2.0
PRODID:-//Clatsop Community College - ECPv6.15.17.1//NONSGML v1.0//EN
CALSCALE:GREGORIAN
METHOD:PUBLISH
X-ORIGINAL-URL:https://www.clatsopcc.edu
X-WR-CALDESC:Events for Clatsop Community College
REFRESH-INTERVAL;VALUE=DURATION:PT1H
X-Robots-Tag:noindex
X-PUBLISHED-TTL:PT1H
BEGIN:VTIMEZONE
TZID:America/Los_Angeles
BEGIN:DAYLIGHT
TZOFFSETFROM:-0800
TZOFFSETTO:-0700
TZNAME:PDT
DTSTART:20240310T100000
END:DAYLIGHT
BEGIN:STANDARD
TZOFFSETFROM:-0700
TZOFFSETTO:-0800
TZNAME:PST
DTSTART:20241103T090000
END:STANDARD
BEGIN:DAYLIGHT
TZOFFSETFROM:-0800
TZOFFSETTO:-0700
TZNAME:PDT
DTSTART:20250309T100000
END:DAYLIGHT
BEGIN:STANDARD
TZOFFSETFROM:-0700
TZOFFSETTO:-0800
TZNAME:PST
DTSTART:20251102T090000
END:STANDARD
BEGIN:DAYLIGHT
TZOFFSETFROM:-0800
TZOFFSETTO:-0700
TZNAME:PDT
DTSTART:20260308T100000
END:DAYLIGHT
BEGIN:STANDARD
TZOFFSETFROM:-0700
TZOFFSETTO:-0800
TZNAME:PST
DTSTART:20261101T090000
END:STANDARD
END:VTIMEZONE
BEGIN:VEVENT
DTSTART;TZID=America/Los_Angeles:20251208T000000
DTEND;TZID=America/Los_Angeles:20251212T235959
DTSTAMP:20260420T175045
CREATED:20250325T191426Z
LAST-MODIFIED:20251029T225043Z
UID:60531-1765152000-1765583999@www.clatsopcc.edu
SUMMARY:2025 Fall Term Finals Week
DESCRIPTION:Visit the Finals Schedule page to view the Fall Term Finals Schedule.
URL:https://www.clatsopcc.edu/event/2025-fall-term-finals-week/
CATEGORIES:Academic Calendar
END:VEVENT
BEGIN:VEVENT
DTSTART;TZID=America/Los_Angeles:20251212T000000
DTEND;TZID=America/Los_Angeles:20251212T235959
DTSTAMP:20260420T175045
CREATED:20250325T191506Z
LAST-MODIFIED:20250325T191509Z
UID:60533-1765497600-1765583999@www.clatsopcc.edu
SUMMARY:2025 Fall Term Ends
DESCRIPTION:
URL:https://www.clatsopcc.edu/event/2025-fall-term-ends/
CATEGORIES:Academic Calendar
END:VEVENT
END:VCALENDAR